﻿BEGIN:VCALENDAR
VERSION:2.0
PRODID:spatie/icalendar-generator
DESCRIPTION:Veranstaltungen von Union XC-Club Mühldorf
X-WR-CALDESC:Veranstaltungen von Union XC-Club Mühldorf
REFRESH-INTERVAL;VALUE=DURATION:PT1440M
X-PUBLISHED-TTL:PT1440M
BEGIN:VTIMEZONE
TZID:Europe/Berlin
BEGIN:STANDARD
DTSTART:20161030T030000Z
TZOFFSETFROM:+0200
TZOFFSETTO:+0100
END:STANDARD
BEGIN:DAYLIGHT
DTSTART:20170326T020000Z
TZOFFSETFROM:+0100
TZOFFSETTO:+0200
END:DAYLIGHT
END:VTIMEZONE
BEGIN:VTIMEZONE
TZID:UTC
BEGIN:STANDARD
DTSTART:20250724T075817Z
TZOFFSETFROM:+0000
TZOFFSETTO:+0000
END:STANDARD
END:VTIMEZONE
BEGIN:VEVENT
UID:208-82
DTSTAMP:20260420T075817Z
SUMMARY:IVV Wandertag Mühldorf
LOCATION:
ORGANIZER;CN=sekora:MAILTO:wolfgang@sekora.at
DTSTART;TZID=Europe/Berlin:20170416T080000
DTEND;TZID=Europe/Berlin:20170416T090000
X-ALT-DESC;FMTTYPE=TEXT/HTML:
CATEGORIES:Wandern
URL;VALUE=URI:https://www.xc-club.at/mc-events/ivv-wandertag-muehldorf/
METHOD:PUBLISH
END:VEVENT
END:VCALENDAR