﻿BEGIN:VCALENDAR
VERSION:2.0
PRODID:spatie/icalendar-generator
DESCRIPTION:Veranstaltungen von Union XC-Club Mühldorf
X-WR-CALDESC:Veranstaltungen von Union XC-Club Mühldorf
REFRESH-INTERVAL;VALUE=DURATION:PT1440M
X-PUBLISHED-TTL:PT1440M
BEGIN:VTIMEZONE
TZID:Europe/Berlin
BEGIN:DAYLIGHT
DTSTART:20200329T020000Z
TZOFFSETFROM:+0100
TZOFFSETTO:+0200
END:DAYLIGHT
BEGIN:STANDARD
DTSTART:20201025T030000Z
TZOFFSETFROM:+0200
TZOFFSETTO:+0100
END:STANDARD
END:VTIMEZONE
BEGIN:VTIMEZONE
TZID:UTC
BEGIN:STANDARD
DTSTART:20250725T115919Z
TZOFFSETFROM:+0000
TZOFFSETTO:+0000
END:STANDARD
END:VTIMEZONE
BEGIN:VEVENT
UID:400-231
DTSTAMP:20260421T115919Z
SUMMARY:AC – Light ab Gmunden
LOCATION:
ORGANIZER;CN=sekora:MAILTO:wolfgang@sekora.at
DTSTART;TZID=Europe/Berlin;VALUE=DATE:20200802
DTEND;TZID=Europe/Berlin;VALUE=DATE:20200803
X-ALT-DESC;FMTTYPE=TEXT/HTML:RR - AC – Light ab Gmunden Anmeldung bei Eri
 ch Kerzendorfer
CATEGORIES:Rad
URL;VALUE=URI:https://www.xc-club.at/mc-events/ac-light-ab-gmunden-5/
METHOD:PUBLISH
END:VEVENT
END:VCALENDAR