﻿BEGIN:VCALENDAR
VERSION:2.0
PRODID:spatie/icalendar-generator
DESCRIPTION:Veranstaltungen von Union XC-Club Mühldorf
X-WR-CALDESC:Veranstaltungen von Union XC-Club Mühldorf
REFRESH-INTERVAL;VALUE=DURATION:PT1440M
X-PUBLISHED-TTL:PT1440M
BEGIN:VTIMEZONE
TZID:Europe/Berlin
BEGIN:STANDARD
DTSTART:20201025T030000Z
TZOFFSETFROM:+0200
TZOFFSETTO:+0100
END:STANDARD
BEGIN:DAYLIGHT
DTSTART:20210328T020000Z
TZOFFSETFROM:+0100
TZOFFSETTO:+0200
END:DAYLIGHT
END:VTIMEZONE
BEGIN:VTIMEZONE
TZID:UTC
BEGIN:STANDARD
DTSTART:20250725T153544Z
TZOFFSETFROM:+0000
TZOFFSETTO:+0000
END:STANDARD
END:VTIMEZONE
BEGIN:VEVENT
UID:409-240
DTSTAMP:20260421T153544Z
SUMMARY:ABSCHLUSSWANDERUNG-2020
LOCATION:
ORGANIZER;CN=Reinhard Lorenz:MAILTO:bm.lorenz@aon.at
DTSTART;TZID=Europe/Berlin:20201230T113000
DTEND;TZID=Europe/Berlin:20201230T220000
X-ALT-DESC;FMTTYPE=TEXT/HTML:Nachmittags-Wanderung wird noch ausgeschrieben
 \, Info bei Wanderguide Reinhard LORENZ 0676-5253660
CATEGORIES:Wandern
URL;VALUE=URI:https://www.xc-club.at/mc-events/abschlusswanderung-2020/
METHOD:PUBLISH
END:VEVENT
END:VCALENDAR