﻿BEGIN:VCALENDAR
VERSION:2.0
PRODID:spatie/icalendar-generator
DESCRIPTION:Veranstaltungen von Union XC-Club Mühldorf
X-WR-CALDESC:Veranstaltungen von Union XC-Club Mühldorf
REFRESH-INTERVAL;VALUE=DURATION:PT1440M
X-PUBLISHED-TTL:PT1440M
BEGIN:VTIMEZONE
TZID:Europe/Berlin
BEGIN:DAYLIGHT
DTSTART:20220327T020000Z
TZOFFSETFROM:+0100
TZOFFSETTO:+0200
END:DAYLIGHT
BEGIN:STANDARD
DTSTART:20221030T030000Z
TZOFFSETFROM:+0200
TZOFFSETTO:+0100
END:STANDARD
BEGIN:DAYLIGHT
DTSTART:20230326T020000Z
TZOFFSETFROM:+0100
TZOFFSETTO:+0200
END:DAYLIGHT
END:VTIMEZONE
BEGIN:VTIMEZONE
TZID:UTC
BEGIN:STANDARD
DTSTART:20250728T001813Z
TZOFFSETFROM:+0000
TZOFFSETTO:+0000
END:STANDARD
END:VTIMEZONE
BEGIN:VEVENT
UID:432-256
DTSTAMP:20260424T001813Z
SUMMARY:ABGESAGT! Vereinsmeisterschaften JAU-MTB-eBike
LOCATION:
ORGANIZER;CN=sekora:MAILTO:wolfgang@sekora.at
DTSTART;TZID=Europe/Berlin:20221022T140000
DTEND;TZID=Europe/Berlin:20221022T150000
X-ALT-DESC;FMTTYPE=TEXT/HTML:ABGESAGT! Krankheitsbedingt müssen wir leider
  unsere Vereinsmeisterschaften absagen. Wir freuen uns aber um eine Teilna
 hme am Nationalfeiertag bei einer Weinsteintourbefahrung. XC - Vereinsmeis
 terschaften 2022 Datum: Samstag\, 22.10.2022 - Start 14:00 Uhr Ort: 3622
  Mühldorf - Ortszentrum (beim Mühlrad) Um unseren MTB-Clubmeister zu e
 rmitteln\, befahren wir wie jedes Jahr den JAUerling. Spaß und Freude a
 m Radfahren mit einem gemütlichen Abschluss stehen bei&amp;hellip\;
CATEGORIES:Rad
URL;VALUE=URI:https://www.xc-club.at/mc-events/abgesagt-vereinsmeisterschaf
 ten-jau-mtb-ebike/
METHOD:PUBLISH
END:VEVENT
END:VCALENDAR