﻿BEGIN:VCALENDAR
VERSION:2.0
PRODID:spatie/icalendar-generator
DESCRIPTION:Veranstaltungen von Union XC-Club Mühldorf
X-WR-CALDESC:Veranstaltungen von Union XC-Club Mühldorf
REFRESH-INTERVAL;VALUE=DURATION:PT1440M
X-PUBLISHED-TTL:PT1440M
BEGIN:VTIMEZONE
TZID:Europe/Berlin
BEGIN:STANDARD
DTSTART:20241027T030000Z
TZOFFSETFROM:+0200
TZOFFSETTO:+0100
END:STANDARD
BEGIN:DAYLIGHT
DTSTART:20250330T020000Z
TZOFFSETFROM:+0100
TZOFFSETTO:+0200
END:DAYLIGHT
END:VTIMEZONE
BEGIN:VTIMEZONE
TZID:UTC
BEGIN:STANDARD
DTSTART:20250725T083305Z
TZOFFSETFROM:+0000
TZOFFSETTO:+0000
END:STANDARD
END:VTIMEZONE
BEGIN:VEVENT
UID:456-283
DTSTAMP:20260421T083305Z
SUMMARY:MTB Karsamstagausfahrt
LOCATION:
ORGANIZER;CN=sekora:MAILTO:wolfgang@sekora.at
DTSTART;TZID=Europe/Berlin:20250419T090000
DTEND;TZID=Europe/Berlin:20250419T100000
X-ALT-DESC;FMTTYPE=TEXT/HTML:Woodquarter-Karsamstag XC - Bikeopening am Kar
 samstag\, 19.4.2025 - (e)MTB - Tour ins südliche Waldviertel und retour T
 reffpunkt: Mühlrad im Ortszentrum von Mühldorf - 9 Uhr - Start späteste
 ns 9:15 Tourdaten: 52 km und ca. 1200 hm - mehrere Einkehrmöglichkeiten (
 Els\, Kottes\, Himberg)\, je nach Lust und Laune bzw. Kalorienbedarf\, Str
 eckendesign von Erwin Sudia Track auf&amp;hellip\;
CATEGORIES:Rad
URL;VALUE=URI:https://www.xc-club.at/mc-events/mtb-karsamstagausfahrt/
METHOD:PUBLISH
END:VEVENT
END:VCALENDAR