﻿BEGIN:VCALENDAR
VERSION:2.0
PRODID:spatie/icalendar-generator
DESCRIPTION:Veranstaltungen von Union XC-Club Mühldorf
X-WR-CALDESC:Veranstaltungen von Union XC-Club Mühldorf
REFRESH-INTERVAL;VALUE=DURATION:PT1440M
X-PUBLISHED-TTL:PT1440M
BEGIN:VTIMEZONE
TZID:Europe/Berlin
BEGIN:STANDARD
DTSTART:20241027T030000Z
TZOFFSETFROM:+0200
TZOFFSETTO:+0100
END:STANDARD
BEGIN:DAYLIGHT
DTSTART:20250330T020000Z
TZOFFSETFROM:+0100
TZOFFSETTO:+0200
END:DAYLIGHT
BEGIN:STANDARD
DTSTART:20251026T030000Z
TZOFFSETFROM:+0200
TZOFFSETTO:+0100
END:STANDARD
END:VTIMEZONE
BEGIN:VTIMEZONE
TZID:UTC
BEGIN:STANDARD
DTSTART:20250725T133636Z
TZOFFSETFROM:+0000
TZOFFSETTO:+0000
END:STANDARD
END:VTIMEZONE
BEGIN:VEVENT
UID:459-286
DTSTAMP:20260421T133636Z
SUMMARY:Schweizerhaus - Prater
LOCATION:
ORGANIZER;CN=sekora:MAILTO:wolfgang@sekora.at
DTSTART;TZID=Europe/Berlin:20250531T073000
DTEND;TZID=Europe/Berlin:20250531T083000
X-ALT-DESC;FMTTYPE=TEXT/HTML:Einladung zu einer gemütlichen XC-Ausfahrt in
 s Schweizerhaus Termin: Samstag 31. Mai 2025 Treffpunkt: 07:15 in Mühldor
 f beim Mühlrad - Abfahrt: 7:30 Hallo! Der XC-Club organisiert eine gemüt
 liche Ausfahrt nach Wien ins Schweizerhaus. Am Donauradweg hinunter\, weit
 gehend bergab und mit Pausen nach Bedarf wird es sicher eine gemütliche T
 our. Die Belohnung ist dann jedenfalls kulinarisch im&amp;hellip\;
CATEGORIES:Rad
URL;VALUE=URI:https://www.xc-club.at/mc-events/schweizerhaus-prater/
METHOD:PUBLISH
END:VEVENT
END:VCALENDAR