﻿BEGIN:VCALENDAR
VERSION:2.0
PRODID:spatie/icalendar-generator
DESCRIPTION:Veranstaltungen von Union XC-Club Mühldorf
X-WR-CALDESC:Veranstaltungen von Union XC-Club Mühldorf
REFRESH-INTERVAL;VALUE=DURATION:PT1440M
X-PUBLISHED-TTL:PT1440M
BEGIN:VTIMEZONE
TZID:Europe/Berlin
BEGIN:DAYLIGHT
DTSTART:20250330T020000Z
TZOFFSETFROM:+0100
TZOFFSETTO:+0200
END:DAYLIGHT
BEGIN:STANDARD
DTSTART:20251026T030000Z
TZOFFSETFROM:+0200
TZOFFSETTO:+0100
END:STANDARD
BEGIN:DAYLIGHT
DTSTART:20260329T020000Z
TZOFFSETFROM:+0100
TZOFFSETTO:+0200
END:DAYLIGHT
END:VTIMEZONE
BEGIN:VTIMEZONE
TZID:UTC
BEGIN:STANDARD
DTSTART:20250725T203651Z
TZOFFSETFROM:+0000
TZOFFSETTO:+0000
END:STANDARD
END:VTIMEZONE
BEGIN:VEVENT
UID:460-287
DTSTAMP:20260421T203651Z
SUMMARY:Gedenkausfahrt Nachtl und Lufti
LOCATION:
ORGANIZER;CN=sekora:MAILTO:wolfgang@sekora.at
DTSTART;TZID=Europe/Berlin:20251004T100000
DTEND;TZID=Europe/Berlin:20251004T110000
X-ALT-DESC;FMTTYPE=TEXT/HTML:Datum: Samstag\, 4. Oktober 2025 - Abfahrt 10
 :00 (Ausweichtermin bei Schlechtwetter 18.Oktober) Ort: Radshop Kalteis\,
  Austraße 7\, 3512 Mautern an der Donau Anreise bitte mit dem Privaten PK
 W. Wir fahren eine Rennrad Runde zum Gedenken an unsere Mitglieder Johan
 nes Nachbagauer und Ewald Luftenstein über Mautern - Cote d´ Azur - Alb
 rechtsberg - Wald der Stille in Egelsee - Mautern. Zum&amp;hellip\;
CATEGORIES:Rad
URL;VALUE=URI:https://www.xc-club.at/mc-events/gedenkausfahrt-nachtl-und-lu
 fti/
METHOD:PUBLISH
END:VEVENT
END:VCALENDAR