﻿BEGIN:VCALENDAR
VERSION:2.0
PRODID:spatie/icalendar-generator
DESCRIPTION:Veranstaltungen von Union XC-Club Mühldorf
X-WR-CALDESC:Veranstaltungen von Union XC-Club Mühldorf
REFRESH-INTERVAL;VALUE=DURATION:PT1440M
X-PUBLISHED-TTL:PT1440M
BEGIN:VTIMEZONE
TZID:Europe/Berlin
BEGIN:DAYLIGHT
DTSTART:20250330T020000Z
TZOFFSETFROM:+0100
TZOFFSETTO:+0200
END:DAYLIGHT
BEGIN:STANDARD
DTSTART:20251026T030000Z
TZOFFSETFROM:+0200
TZOFFSETTO:+0100
END:STANDARD
BEGIN:DAYLIGHT
DTSTART:20260329T020000Z
TZOFFSETFROM:+0100
TZOFFSETTO:+0200
END:DAYLIGHT
END:VTIMEZONE
BEGIN:VTIMEZONE
TZID:UTC
BEGIN:STANDARD
DTSTART:20250726T023301Z
TZOFFSETFROM:+0000
TZOFFSETTO:+0000
END:STANDARD
END:VTIMEZONE
BEGIN:VEVENT
UID:461-288
DTSTAMP:20260422T023301Z
SUMMARY:Vereinsmeisterschaften 2025
LOCATION:
ORGANIZER;CN=sekora:MAILTO:wolfgang@sekora.at
DTSTART;TZID=Europe/Berlin:20251011T140000
DTEND;TZID=Europe/Berlin:20251011T150000
X-ALT-DESC;FMTTYPE=TEXT/HTML:Datum: Samstag\, 11.10.2025 - Start 14:00 Uh
 r Ort: 3622 Mühldorf - Ortszentrum (beim Mühlrad) Um unseren MTB-Clubm
 eister zu ermitteln\, befahren wir wie jedes Jahr den JAUerling. Spaß 
 und Freude am Radfahren mit einem gemütlichen Abschluss im Naturpark-Gast
 haus am Jauerling stehen bei diesem Event im Vordergrund! Auch dieses Jahr
  wird es wieder eine E-Bike Wertung geben. Es gibt auch eine Gästeklas
 se\, für jene die (noch) nicht&amp;hellip\;
CATEGORIES:Rad
URL;VALUE=URI:https://www.xc-club.at/mc-events/vereinsmeisterschaften-2025/
METHOD:PUBLISH
END:VEVENT
END:VCALENDAR