﻿BEGIN:VCALENDAR
VERSION:2.0
PRODID:spatie/icalendar-generator
DESCRIPTION:Veranstaltungen von Union XC-Club Mühldorf
X-WR-CALDESC:Veranstaltungen von Union XC-Club Mühldorf
REFRESH-INTERVAL;VALUE=DURATION:PT1440M
X-PUBLISHED-TTL:PT1440M
BEGIN:VTIMEZONE
TZID:Europe/Berlin
BEGIN:DAYLIGHT
DTSTART:20250330T020000Z
TZOFFSETFROM:+0100
TZOFFSETTO:+0200
END:DAYLIGHT
BEGIN:STANDARD
DTSTART:20251026T030000Z
TZOFFSETFROM:+0200
TZOFFSETTO:+0100
END:STANDARD
BEGIN:DAYLIGHT
DTSTART:20260329T020000Z
TZOFFSETFROM:+0100
TZOFFSETTO:+0200
END:DAYLIGHT
END:VTIMEZONE
BEGIN:VTIMEZONE
TZID:UTC
BEGIN:STANDARD
DTSTART:20250725T152603Z
TZOFFSETFROM:+0000
TZOFFSETTO:+0000
END:STANDARD
END:VTIMEZONE
BEGIN:VEVENT
UID:464-291
DTSTAMP:20260421T152603Z
SUMMARY:Bodywork
LOCATION:
ORGANIZER;CN=sekora:MAILTO:wolfgang@sekora.at
RRULE:FREQ=WEEKLY;UNTIL=20251218T000000Z
DTSTART;TZID=Europe/Berlin:20251002T184500
DTEND;TZID=Europe/Berlin:20251002T194500
X-ALT-DESC;FMTTYPE=TEXT/HTML:Hallo! wir starten wieder mit Bodywork in die 
 Herbsttrainingssaison! Beginn: Donnerstag 02.10.2025 KURS 1: 18:45 – 19:
 45 KURS 2: 20:15 - 21:15 Ort: Turnsaal VS Niederranna Kursbeitrag: EUR 4\,
 - / Einheit Du bezahlst nur die besuchte Kurseinheit! Mitzubringen: Traini
 ngsbekleidung\, Trinkflasche\, Handtuch\, Matte\, Freude &amp;amp\; Spaß an d
 er Bewegung PROGRAMM: Stabilisation-\, Power Intervall- &amp;amp\; Functional 
 Training&amp;hellip\;
CATEGORIES:Fitness
URL;VALUE=URI:https://www.xc-club.at/mc-events/bodywork/?mc_id=464
METHOD:PUBLISH
END:VEVENT
END:VCALENDAR