﻿BEGIN:VCALENDAR
VERSION:2.0
PRODID:spatie/icalendar-generator
DESCRIPTION:Veranstaltungen von Union XC-Club Mühldorf
X-WR-CALDESC:Veranstaltungen von Union XC-Club Mühldorf
REFRESH-INTERVAL;VALUE=DURATION:PT1440M
X-PUBLISHED-TTL:PT1440M
BEGIN:VTIMEZONE
TZID:Europe/Berlin
BEGIN:DAYLIGHT
DTSTART:20250330T020000Z
TZOFFSETFROM:+0100
TZOFFSETTO:+0200
END:DAYLIGHT
BEGIN:STANDARD
DTSTART:20251026T030000Z
TZOFFSETFROM:+0200
TZOFFSETTO:+0100
END:STANDARD
BEGIN:DAYLIGHT
DTSTART:20260329T020000Z
TZOFFSETFROM:+0100
TZOFFSETTO:+0200
END:DAYLIGHT
END:VTIMEZONE
BEGIN:VTIMEZONE
TZID:UTC
BEGIN:STANDARD
DTSTART:20250726T225552Z
TZOFFSETFROM:+0000
TZOFFSETTO:+0000
END:STANDARD
END:VTIMEZONE
BEGIN:VEVENT
UID:473-292
DTSTAMP:20260422T225552Z
SUMMARY:Bodywork
LOCATION:
ORGANIZER;CN=sekora:MAILTO:wolfgang@sekora.at
RRULE:FREQ=WEEKLY;UNTIL=20251218T000000Z
DTSTART;TZID=Europe/Berlin:20251113T201500
DTEND;TZID=Europe/Berlin:20251113T211500
X-ALT-DESC;FMTTYPE=TEXT/HTML:Hallo Wolfgang! wir starten wieder mit Bodywor
 k in die Herbsttrainingssaison! Beginn: Donnerstag 02.10.2025 KURS 1: 18:4
 5 – 19:45 KURS 2: 20:15 - 21:15 Ort: Turnsaal VS Niederranna Kursbeitrag
 : EUR 4\,- / Einheit Du bezahlst nur die besuchte Kurseinheit! Mitzubringe
 n: Trainingsbekleidung\, Trinkflasche\, Handtuch\, Matte\, Freude &amp;amp\; S
 paß an der Bewegung PROGRAMM: Stabilisation-\, Power Intervall- &amp;amp\; Fu
 nctional&amp;hellip\;
CATEGORIES:Fitness
URL;VALUE=URI:https://www.xc-club.at/mc-events/bodywork-2/?mc_id=473
METHOD:PUBLISH
END:VEVENT
END:VCALENDAR