﻿BEGIN:VCALENDAR
VERSION:2.0
PRODID:spatie/icalendar-generator
DESCRIPTION:Veranstaltungen von Union XC-Club Mühldorf
X-WR-CALDESC:Veranstaltungen von Union XC-Club Mühldorf
REFRESH-INTERVAL;VALUE=DURATION:PT1440M
X-PUBLISHED-TTL:PT1440M
BEGIN:VTIMEZONE
TZID:Europe/Berlin
BEGIN:STANDARD
DTSTART:20151025T030000Z
TZOFFSETFROM:+0200
TZOFFSETTO:+0100
END:STANDARD
BEGIN:DAYLIGHT
DTSTART:20160327T020000Z
TZOFFSETFROM:+0100
TZOFFSETTO:+0200
END:DAYLIGHT
END:VTIMEZONE
BEGIN:VTIMEZONE
TZID:UTC
BEGIN:STANDARD
DTSTART:20250725T094151Z
TZOFFSETFROM:+0000
TZOFFSETTO:+0000
END:STANDARD
END:VTIMEZONE
BEGIN:VEVENT
UID:96-8
DTSTAMP:20260421T094151Z
SUMMARY:Bike Opening
LOCATION:
ORGANIZER;CN=sekora:MAILTO:wolfgang@sekora.at
DTSTART;TZID=Europe/Berlin;VALUE=DATE:20160402
DTEND;TZID=Europe/Berlin;VALUE=DATE:20160403
X-ALT-DESC;FMTTYPE=TEXT/HTML:zum Blog Unser traditionelles MTB - Opening am
  Karsamstag steht unmittelbar bevor und es ist höchste Zeit einzuladen un
 d zu informieren: Start: Sa\, 2.4.2016 - 9:00 beim Mühlrad in Mühldorf -
  Achtung - um 1 Woche verschoben! Strecke: Auf der Weinsteintour auf die B
 ärenwände - Buschandlwand - Seiber - Weißenkirchen - über dei Donau (F
 ähre)&amp;hellip\;
CATEGORIES:Rad
URL;VALUE=URI:https://www.xc-club.at/mc-events/bike-opening/
METHOD:PUBLISH
END:VEVENT
END:VCALENDAR