﻿BEGIN:VCALENDAR
VERSION:2.0
PRODID:spatie/icalendar-generator
DESCRIPTION:Veranstaltungen von Union XC-Club Mühldorf
X-WR-CALDESC:Veranstaltungen von Union XC-Club Mühldorf
REFRESH-INTERVAL;VALUE=DURATION:PT1440M
X-PUBLISHED-TTL:PT1440M
BEGIN:VTIMEZONE
TZID:Europe/Berlin
BEGIN:STANDARD
DTSTART:20161030T030000Z
TZOFFSETFROM:+0200
TZOFFSETTO:+0100
END:STANDARD
BEGIN:DAYLIGHT
DTSTART:20170326T020000Z
TZOFFSETFROM:+0100
TZOFFSETTO:+0200
END:DAYLIGHT
BEGIN:STANDARD
DTSTART:20171029T030000Z
TZOFFSETFROM:+0200
TZOFFSETTO:+0100
END:STANDARD
END:VTIMEZONE
BEGIN:VTIMEZONE
TZID:UTC
BEGIN:STANDARD
DTSTART:20250724T202217Z
TZOFFSETFROM:+0000
TZOFFSETTO:+0000
END:STANDARD
END:VTIMEZONE
BEGIN:VEVENT
UID:213-87
DTSTAMP:20260420T202217Z
SUMMARY:Mühldorf - Prater Schweizerhaus
LOCATION:
ORGANIZER;CN=sekora:MAILTO:wolfgang@sekora.at
DTSTART;TZID=Europe/Berlin:20170520T070000
DTEND;TZID=Europe/Berlin:20170520T080000
X-ALT-DESC;FMTTYPE=TEXT/HTML:Leo Schmid organisiert auch heuer wieder eine 
 gemütliche Ausfahrt nach Wien ins Schweizerhaus. Am Donauradweg hinunter\
 , weitgehend bergab und mit Pausen nach Bedarf wird es sicher eine eher ge
 mütliche Tour.  Die Belohnung ist dann jedenfalls kulinarisch im Schweiz
 erhaus! Was dort wie viel und wie lange konsumiert wird\, steht noch nicht
  fest. Zurück geht es dann&amp;hellip\;
CATEGORIES:Rad
URL;VALUE=URI:https://www.xc-club.at/mc-events/muehldorf-prater-schweizerha
 us/
METHOD:PUBLISH
END:VEVENT
END:VCALENDAR