﻿BEGIN:VCALENDAR
VERSION:2.0
PRODID:spatie/icalendar-generator
DESCRIPTION:Veranstaltungen von Union XC-Club Mühldorf
X-WR-CALDESC:Veranstaltungen von Union XC-Club Mühldorf
REFRESH-INTERVAL;VALUE=DURATION:PT1440M
X-PUBLISHED-TTL:PT1440M
BEGIN:VTIMEZONE
TZID:Europe/Berlin
BEGIN:STANDARD
DTSTART:20191027T030000Z
TZOFFSETFROM:+0200
TZOFFSETTO:+0100
END:STANDARD
BEGIN:DAYLIGHT
DTSTART:20200329T020000Z
TZOFFSETFROM:+0100
TZOFFSETTO:+0200
END:DAYLIGHT
BEGIN:STANDARD
DTSTART:20201025T030000Z
TZOFFSETFROM:+0200
TZOFFSETTO:+0100
END:STANDARD
END:VTIMEZONE
BEGIN:VTIMEZONE
TZID:UTC
BEGIN:STANDARD
DTSTART:20250724T220423Z
TZOFFSETFROM:+0000
TZOFFSETTO:+0000
END:STANDARD
END:VTIMEZONE
BEGIN:VEVENT
UID:372-212
DTSTAMP:20260420T220423Z
SUMMARY:RR Waldhausen - Bärnkopf
LOCATION:
ORGANIZER;CN=sekora:MAILTO:wolfgang@sekora.at
DTSTART;TZID=Europe/Berlin:20200711T210000
DTEND;TZID=Europe/Berlin:20200711T220000
X-ALT-DESC;FMTTYPE=TEXT/HTML:RR Yspertal – Waldhausen - Bärnkopf Anmeldu
 ng bei Erich Kerzendorfer
CATEGORIES:Rad
URL;VALUE=URI:https://www.xc-club.at/mc-events/rr-waldhausen-baernkopf/
METHOD:PUBLISH
END:VEVENT
END:VCALENDAR