﻿BEGIN:VCALENDAR
VERSION:2.0
PRODID:spatie/icalendar-generator
DESCRIPTION:Veranstaltungen von Union XC-Club Mühldorf
X-WR-CALDESC:Veranstaltungen von Union XC-Club Mühldorf
REFRESH-INTERVAL;VALUE=DURATION:PT1440M
X-PUBLISHED-TTL:PT1440M
BEGIN:VTIMEZONE
TZID:Europe/Berlin
BEGIN:STANDARD
DTSTART:20191027T030000Z
TZOFFSETFROM:+0200
TZOFFSETTO:+0100
END:STANDARD
BEGIN:DAYLIGHT
DTSTART:20200329T020000Z
TZOFFSETFROM:+0100
TZOFFSETTO:+0200
END:DAYLIGHT
END:VTIMEZONE
BEGIN:VTIMEZONE
TZID:UTC
BEGIN:STANDARD
DTSTART:20250727T105131Z
TZOFFSETFROM:+0000
TZOFFSETTO:+0000
END:STANDARD
END:VTIMEZONE
BEGIN:VEVENT
UID:403-234
DTSTAMP:20260423T105131Z
SUMMARY:Vollmondwanderung04 am 03-04-2020
LOCATION:
ORGANIZER;CN=Reinhard Lorenz:MAILTO:bm.lorenz@aon.at
DTSTART;TZID=Europe/Berlin:20200403T170000
DTEND;TZID=Europe/Berlin:20200403T224500
X-ALT-DESC;FMTTYPE=TEXT/HTML:Vollmondwanderung04 am 03-04-2020 wird noch au
 sgeschrieben\, Info bei Wanderguide Reinhard LORENZ 0676-5253660 SOMMERPAU
 SE
CATEGORIES:Wandern
URL;VALUE=URI:https://www.xc-club.at/mc-events/vollmondwanderung04-am-03-04
 -2020/
METHOD:PUBLISH
END:VEVENT
END:VCALENDAR