﻿BEGIN:VCALENDAR
VERSION:2.0
PRODID:spatie/icalendar-generator
DESCRIPTION:Veranstaltungen von Union XC-Club Mühldorf
X-WR-CALDESC:Veranstaltungen von Union XC-Club Mühldorf
REFRESH-INTERVAL;VALUE=DURATION:PT1440M
X-PUBLISHED-TTL:PT1440M
BEGIN:VTIMEZONE
TZID:Europe/Berlin
BEGIN:DAYLIGHT
DTSTART:20200329T020000Z
TZOFFSETFROM:+0100
TZOFFSETTO:+0200
END:DAYLIGHT
BEGIN:STANDARD
DTSTART:20201025T030000Z
TZOFFSETFROM:+0200
TZOFFSETTO:+0100
END:STANDARD
BEGIN:DAYLIGHT
DTSTART:20210328T020000Z
TZOFFSETFROM:+0100
TZOFFSETTO:+0200
END:DAYLIGHT
END:VTIMEZONE
BEGIN:VTIMEZONE
TZID:UTC
BEGIN:STANDARD
DTSTART:20250725T203117Z
TZOFFSETFROM:+0000
TZOFFSETTO:+0000
END:STANDARD
END:VTIMEZONE
BEGIN:VEVENT
UID:411-241
DTSTAMP:20260421T203117Z
SUMMARY:Vollmondwanderung09 am 20-11-2020
LOCATION:
ORGANIZER;CN=Reinhard Lorenz:MAILTO:bm.lorenz@aon.at
DTSTART;TZID=Europe/Berlin:20201120T163000
DTEND;TZID=Europe/Berlin:20201120T233000
X-ALT-DESC;FMTTYPE=TEXT/HTML:Vollmondwanderung09 am 20-11-2020 vorverlegter
  Twermin wegen XC Weihnachtsfeier - Ausschreibung folgt
CATEGORIES:Wandern
URL;VALUE=URI:https://www.xc-club.at/mc-events/vollmondwanderung09-am-20-11
 -2020/
METHOD:PUBLISH
END:VEVENT
END:VCALENDAR