﻿BEGIN:VCALENDAR
VERSION:2.0
PRODID:spatie/icalendar-generator
DESCRIPTION:Veranstaltungen von Union XC-Club Mühldorf
X-WR-CALDESC:Veranstaltungen von Union XC-Club Mühldorf
REFRESH-INTERVAL;VALUE=DURATION:PT1440M
X-PUBLISHED-TTL:PT1440M
BEGIN:VTIMEZONE
TZID:Europe/Berlin
BEGIN:DAYLIGHT
DTSTART:20220327T020000Z
TZOFFSETFROM:+0100
TZOFFSETTO:+0200
END:DAYLIGHT
BEGIN:STANDARD
DTSTART:20221030T030000Z
TZOFFSETFROM:+0200
TZOFFSETTO:+0100
END:STANDARD
BEGIN:DAYLIGHT
DTSTART:20230326T020000Z
TZOFFSETFROM:+0100
TZOFFSETTO:+0200
END:DAYLIGHT
END:VTIMEZONE
BEGIN:VTIMEZONE
TZID:UTC
BEGIN:STANDARD
DTSTART:20250725T103857Z
TZOFFSETFROM:+0000
TZOFFSETTO:+0000
END:STANDARD
END:VTIMEZONE
BEGIN:VEVENT
UID:428-257
DTSTAMP:20260421T103857Z
SUMMARY:Weinsteintourbefahrung
LOCATION:
ORGANIZER;CN=sekora:MAILTO:wolfgang@sekora.at
DTSTART;TZID=Europe/Berlin:20221026T090000
DTEND;TZID=Europe/Berlin:20221026T100000
X-ALT-DESC;FMTTYPE=TEXT/HTML:Dieses Jahr waren wir eine kleine Gruppe (MTB 
 und eMTB) bei teilweise Nieselregen und am Jauerling Sonnenschein. Nach ei
 ner Stärkung im Naturparkhaus hatten wir einen gemütlichen Ausklang im G
 asthof Siebenhandl. Einladung zur WEINSTEINTOUR - BEFAHRUNG Start: Mittwoc
 h\, 26. Oktober 2022 - Treffpunkt 9:00 Ort: 3622 Mühldorf - Ortszentrum (
 beim Mühlrad) &amp;nbsp\; Strecke: Weinsteintour - klassisch&amp;hellip\;
CATEGORIES:Rad
URL;VALUE=URI:https://www.xc-club.at/mc-events/weinsteintourbefahrung-7/
METHOD:PUBLISH
END:VEVENT
END:VCALENDAR