﻿BEGIN:VCALENDAR
VERSION:2.0
PRODID:spatie/icalendar-generator
DESCRIPTION:Veranstaltungen von Union XC-Club Mühldorf
X-WR-CALDESC:Veranstaltungen von Union XC-Club Mühldorf
REFRESH-INTERVAL;VALUE=DURATION:PT1440M
X-PUBLISHED-TTL:PT1440M
BEGIN:VTIMEZONE
TZID:Europe/Berlin
BEGIN:DAYLIGHT
DTSTART:20220327T020000Z
TZOFFSETFROM:+0100
TZOFFSETTO:+0200
END:DAYLIGHT
BEGIN:STANDARD
DTSTART:20221030T030000Z
TZOFFSETFROM:+0200
TZOFFSETTO:+0100
END:STANDARD
BEGIN:DAYLIGHT
DTSTART:20230326T020000Z
TZOFFSETFROM:+0100
TZOFFSETTO:+0200
END:DAYLIGHT
END:VTIMEZONE
BEGIN:VTIMEZONE
TZID:UTC
BEGIN:STANDARD
DTSTART:20250727T224025Z
TZOFFSETFROM:+0000
TZOFFSETTO:+0000
END:STANDARD
END:VTIMEZONE
BEGIN:VEVENT
UID:435-263
DTSTAMP:20260423T224025Z
SUMMARY:Vollmondwanderung
LOCATION:
ORGANIZER;CN=sekora:MAILTO:wolfgang@sekora.at
DTSTART;TZID=Europe/Berlin:20221007T154500
DTEND;TZID=Europe/Berlin:20221007T164500
X-ALT-DESC;FMTTYPE=TEXT/HTML:Rückblick\, Ankündigung\, Einladung hallo - 
 Heute sende ich dir 1 Rückblick VMW 5 Elemente 2 Ankündigung VMW Hauslei
 ten 3 Einladung Präsentation Radreise EU Teil1 Rückblick VMW 5 Elemente\
 , Fr 04/10/2022 &amp;gt\; 1_Start in die VMW Saison 2022-2023 \"Suche nach den
  5 Elementen\" Die Suche nach den 5 Elementen ist ja ein absolutes Highlig
 ht. Wir waren&amp;hellip\;
CATEGORIES:Wandern
URL;VALUE=URI:https://www.xc-club.at/mc-events/vollmondwanderung-24/
METHOD:PUBLISH
END:VEVENT
END:VCALENDAR