﻿BEGIN:VCALENDAR
VERSION:2.0
PRODID:spatie/icalendar-generator
DESCRIPTION:Veranstaltungen von Union XC-Club Mühldorf
X-WR-CALDESC:Veranstaltungen von Union XC-Club Mühldorf
REFRESH-INTERVAL;VALUE=DURATION:PT1440M
X-PUBLISHED-TTL:PT1440M
BEGIN:VTIMEZONE
TZID:Europe/Berlin
BEGIN:DAYLIGHT
DTSTART:20250330T020000Z
TZOFFSETFROM:+0100
TZOFFSETTO:+0200
END:DAYLIGHT
BEGIN:STANDARD
DTSTART:20251026T030000Z
TZOFFSETFROM:+0200
TZOFFSETTO:+0100
END:STANDARD
BEGIN:DAYLIGHT
DTSTART:20260329T020000Z
TZOFFSETFROM:+0100
TZOFFSETTO:+0200
END:DAYLIGHT
END:VTIMEZONE
BEGIN:VTIMEZONE
TZID:UTC
BEGIN:STANDARD
DTSTART:20250726T134530Z
TZOFFSETFROM:+0000
TZOFFSETTO:+0000
END:STANDARD
END:VTIMEZONE
BEGIN:VEVENT
UID:462-289
DTSTAMP:20260422T134530Z
SUMMARY:WEINSTEINTOUR - BEFAHRUNG
LOCATION:
ORGANIZER;CN=sekora:MAILTO:wolfgang@sekora.at
DTSTART;TZID=Europe/Berlin:20251026T090000
DTEND;TZID=Europe/Berlin:20251026T100000
X-ALT-DESC;FMTTYPE=TEXT/HTML:Datum: Sonntag\, 26. Oktober 2024 - Treffpunk
 t 9:00 Ort: 3622 Mühldorf - Ortszentrum (beim Mühlrad) Strecke: Weinstei
 ntour - klassisch (37km\, 1700hm) – GPS-Daten Je nach Leistungsfähigkei
 t und Motivation gibt es angepasste Gruppen von gemütlich bis zur flotten
  Variante. E-Biker sind selbstverständlich auch gerne willkommen. Nachbes
 prechung und Labung finden im Gasthof Siebenhandl (direkt bei Start und Zi
 el)&amp;hellip\;
CATEGORIES:Rad
URL;VALUE=URI:https://www.xc-club.at/mc-events/weinsteintour-befahrung-5/
METHOD:PUBLISH
END:VEVENT
END:VCALENDAR