﻿BEGIN:VCALENDAR
VERSION:2.0
PRODID:spatie/icalendar-generator
DESCRIPTION:Veranstaltungen von Union XC-Club Mühldorf
X-WR-CALDESC:Veranstaltungen von Union XC-Club Mühldorf
REFRESH-INTERVAL;VALUE=DURATION:PT1440M
X-PUBLISHED-TTL:PT1440M
BEGIN:VTIMEZONE
TZID:Europe/Berlin
BEGIN:DAYLIGHT
DTSTART:20250330T020000Z
TZOFFSETFROM:+0100
TZOFFSETTO:+0200
END:DAYLIGHT
BEGIN:STANDARD
DTSTART:20251026T030000Z
TZOFFSETFROM:+0200
TZOFFSETTO:+0100
END:STANDARD
BEGIN:DAYLIGHT
DTSTART:20260329T020000Z
TZOFFSETFROM:+0100
TZOFFSETTO:+0200
END:DAYLIGHT
END:VTIMEZONE
BEGIN:VTIMEZONE
TZID:UTC
BEGIN:STANDARD
DTSTART:20250727T064240Z
TZOFFSETFROM:+0000
TZOFFSETTO:+0000
END:STANDARD
END:VTIMEZONE
BEGIN:VEVENT
UID:463-290
DTSTAMP:20260423T064240Z
SUMMARY:Jahreshauptversammlung und Weihnachtsfeier
LOCATION:
ORGANIZER;CN=sekora:MAILTO:wolfgang@sekora.at
DTSTART;TZID=Europe/Berlin:20251122T173000
DTEND;TZID=Europe/Berlin:20251122T183000
X-ALT-DESC;FMTTYPE=TEXT/HTML:am Samstag\, 22.11.2025\, 17:30 Uhr im GH Sieb
 enhandl\, 3622 Mühldorf Markt 17 Liebe(r) Wolfgang\, der Vereinsvorstand 
 würden sich freuen\, dich bei der Jahreshauptversammlung mit anschließen
 der Weihnachtsfeier begrüßen zu dürfen. Tagesordnung: 1. Begrüßung d
 urch den Obmann 2. Feststellung der Beschlussfähigkeit 3. Bericht des Obm
 annes 4. Bericht des Kassiers 5. Bericht der Rechnungsprüfer 6. Beschluss
 fassung über die Entlastung&amp;hellip\;
CATEGORIES:Allgemein,  Fitness,  Rad,  Ski,  Wandern
URL;VALUE=URI:https://www.xc-club.at/mc-events/jahreshauptversammlung-und-w
 eihnachtsfeier/
METHOD:PUBLISH
END:VEVENT
END:VCALENDAR