﻿BEGIN:VCALENDAR
VERSION:2.0
PRODID:spatie/icalendar-generator
DESCRIPTION:Veranstaltungen von Union XC-Club Mühldorf
X-WR-CALDESC:Veranstaltungen von Union XC-Club Mühldorf
REFRESH-INTERVAL;VALUE=DURATION:PT1440M
X-PUBLISHED-TTL:PT1440M
BEGIN:VTIMEZONE
TZID:Europe/Berlin
BEGIN:STANDARD
DTSTART:20151025T030000Z
TZOFFSETFROM:+0200
TZOFFSETTO:+0100
END:STANDARD
BEGIN:DAYLIGHT
DTSTART:20160327T020000Z
TZOFFSETFROM:+0100
TZOFFSETTO:+0200
END:DAYLIGHT
END:VTIMEZONE
BEGIN:VTIMEZONE
TZID:UTC
BEGIN:STANDARD
DTSTART:20250726T183902Z
TZOFFSETFROM:+0000
TZOFFSETTO:+0000
END:STANDARD
END:VTIMEZONE
BEGIN:VEVENT
UID:73-39
DTSTAMP:20260422T183902Z
SUMMARY:Vollmondwanderung
LOCATION:
ORGANIZER;CN=sekora:MAILTO:wolfgang@sekora.at
DTSTART;TZID=Europe/Berlin:20160219T160000
DTEND;TZID=Europe/Berlin:20160219T170000
X-ALT-DESC;FMTTYPE=TEXT/HTML:hallo Wie schon angekündigt\, übersende ich 
 dir hier Detailinformationen zur nächsten Vollmondwanderung und lade dich
  herzlich dazu ein: Termin: Fr 19-02-2016 Treffpunkt: 1600h bei Ruth &amp;amp
 \; Rudi Weber Thema: Genuss im Kremstal R&amp;amp\;R Weber haben sich bereit 
 erklärt\, wieder eine Wanderung in ihrer Heimat zu organisieren. Ich komm
 e somit auch gerne den Wünschen nach\, wieder einmal in&amp;hellip\;
CATEGORIES:Wandern
URL;VALUE=URI:https://www.xc-club.at/mc-events/vollmondwanderung/
METHOD:PUBLISH
END:VEVENT
END:VCALENDAR